BEGIN:VCALENDAR
PRODID:-//kirchenweb.ch gmbh//veranstaltungsausgabe v2.0//DE
VERSION:2.0
METHOD:PUBLISH
BEGIN:VEVENT
DTSTART:20210521T070000Z
DTEND:20210521T200000Z
LOCATION:Johanneskirche\, Chäppeligass 39\, 4632 Trimbach
TRANSP:OPAQUE
SEQUENCE:0
UID:13131-veranstaltung@ref-olten.ch
DTSTAMP:20220110T114917Z
DESCRIPTION:Gesamtkirchlicher Anlass\n\nKontakt: Ursula Stampfli\, 062 212
  16 26\n\nWeitere Infos: https://www.ref-olten.ch/veranstaltung/13131
SUMMARY:Zukunftswerkstatt
PRIORITY:5
X-MICROSOFT-CDO-IMPORTANCE:1
CLASS:PUBLIC
END:VEVENT
END:VCALENDAR
