BEGIN:VCALENDAR
PRODID:-//kirchenweb.ch gmbh//veranstaltungsausgabe v2.0//DE
VERSION:2.0
METHOD:PUBLISH
BEGIN:VEVENT
DTSTART:20260702T140000Z
DTEND:20260702T160000Z
LOCATION:Johanneskirche\, Chäppeligass 39\, 4632 Trimbach
TRANSP:OPAQUE
SEQUENCE:0
UID:19115-veranstaltung@ref-olten.ch
DTSTAMP:20260126T184500Z
DESCRIPTION:Als Abschuss vor der Sommerpause bräteln wir gemeinsam vor
  der Johanneskirche.\nWürste und alkoholfreie Getränke sind vorhanden\,
  Beiträge zum Salat- oder Dessertbuffet herzlich willkommen.\n\nKontakt:
  Ursula Rutschi\, 062 293 30 62\n\nWeitere Infos:
  https://www.ref-olten.ch/veranstaltung/19115
SUMMARY:Ökum. Frauengemeinschaft Trimbach - Bräteln
PRIORITY:5
X-MICROSOFT-CDO-IMPORTANCE:1
CLASS:PUBLIC
END:VEVENT
END:VCALENDAR
