BEGIN:VCALENDAR
PRODID:-//kirchenweb.ch gmbh//veranstaltungsausgabe v2.0//DE
VERSION:2.0
METHOD:PUBLISH
BEGIN:VEVENT
DTSTART:20250626T180000Z
DTEND:20250626T190000Z
LOCATION:\,  \,
TRANSP:OPAQUE
SEQUENCE:0
UID:22959-veranstaltung@ref-olten.ch
DTSTAMP:20250612T190201Z
DESCRIPTION:Als neues\, reines Onlineformat nehmen wir in einer
  Lektüregruppe die christliche Literatur der ersten beiden Jahrhunderte
  in den Blick\, daneben auch frühjüdische Apokalypsen und weitere
  relevante jüdische Texte der Zeitenwende. Teilweise werden ganze Bücher
  gelesen\, teilweise nehmen wir spezielle Themen und Traditionen in
  verschiedenen Quellen in den Blick\, vergewissern uns dabei über
  Methoden der Interpretation (historisch-kritisch\,
  religionsgeschichtlich\, tiefenpsychologisch)\, und erhoffen uns
  natürlich in alledem einen Gewinn in Spiritualität und Erkenntnis. \n
 \nKontakt: Pfarrer Sascha Thiel\, 062 295 43 53\n\nWeitere Infos:
  https://www.ref-olten.ch/veranstaltung/22959
SUMMARY:Älteste christliche Literatur: Evangelium der Maria
PRIORITY:5
X-MICROSOFT-CDO-IMPORTANCE:1
CLASS:PUBLIC
END:VEVENT
END:VCALENDAR
