BEGIN:VCALENDAR
PRODID:-//kirchenweb.ch gmbh//veranstaltungsausgabe v2.0//DE
VERSION:2.0
METHOD:PUBLISH
BEGIN:VEVENT
DTSTART:20250504T150000Z
DTEND:20250504T160000Z
LOCATION:Pauluskirche\, Grundstrasse 18\, 4600 Olten
TRANSP:OPAQUE
SEQUENCE:0
UID:23713-veranstaltung@ref-olten.ch
DTSTAMP:20240905T082335Z
DESCRIPTION:52. Jahreszyklus     2024 / 2025       «Surprise»\n\n5.
  Abendmusik    \n\n«attacca»\n\nLucerne Guitar Duo\n \nHannah Biermann
  und Roger Schütz Gitarre\n\nWerke von:\nWitold Lutoslawski (1913-1994) 
 \nJohann Sebastian Bach (1685-1750) \nJoel Bons (*1952)	\nDomenico
  Scarlatti (1685-1757) \nPierre Petit (1922-2000)	\nJean-Philippe Rameau
  (1683-1764) \nStephen Goss (*1964)\n\nLucerne Guitar Duo\n«Spielfreude.
  Klangfarben. Dialog.» So beschreibt das Lucerne Guitar Duo sein Spiel.
  «Meine Freude an der Musik und Spaß beim Musizieren\, das will ich auf
  der Bühne ausstrahlen»\, sagt die Gitarristin Hannah Biermann.
  «Außerdem wollen wir dem Publikum die reiche Farb- und Klangpalette des
  Gitarrenduos zeigen»\, ergänzt Roger Schütz. Dem jungen Duo liegt
  daran\, innovative und vielseitige Programme zusammenzustellen\, Stücke
  abseits des gitarristischen Mainstreams zu entdecken und sein Repertoire
  mit eigenen Arrangements zu bereichern. Die technische Brillanz und ihr
  selbstverständliches Zusammenspiel erlauben den beiden Musikern eigene\,
  stilistisch pointierte Interpretationen zu verwirklichen. Hannah Biermann
  und Roger Schütz fanden 2016 als Duo zusammen. Die Konzerttätigkeit
  bildet seitdem einen großen Schwerpunkt ihres Wirkens\, vor allem in der
  Schweiz und in Deutschland. Im Sommer 2021 wurde ihr Spiel mit dem 2.
  Preis beim internationalen Wettbewerb «Gitarre plus eins» der ligita
  ausgezeichnet. Im Juni 2022 haben Sie den Master in Kammermusik bei Prof.
  Andreas von Wangenheim mit Auszeichnung abgeschlossen.   \n\n\nKontakt:
  Brigitte Salvisberg\n\nWeitere Infos:
  https://www.ref-olten.ch/veranstaltung/23713
SUMMARY:Abendmusik
PRIORITY:5
X-MICROSOFT-CDO-IMPORTANCE:1
CLASS:PUBLIC
END:VEVENT
END:VCALENDAR
