BEGIN:VCALENDAR
PRODID:-//kirchenweb.ch gmbh//veranstaltungsausgabe v2.0//DE
VERSION:2.0
METHOD:PUBLISH
BEGIN:VEVENT
DTSTART:20250830T060000Z
DTEND:20250830T200000Z
LOCATION:Mühlemattplatz\, \,  Trimbach
TRANSP:OPAQUE
SEQUENCE:0
UID:23788-veranstaltung@ref-olten.ch
DTSTAMP:20240702T083418Z
DESCRIPTION:Kontakt: Sandra Bieri\, 062 293 16 89\n\nWeitere Infos:
  https://www.ref-olten.ch/veranstaltung/23788
SUMMARY:Dorfmäret
PRIORITY:5
X-MICROSOFT-CDO-IMPORTANCE:1
CLASS:PUBLIC
END:VEVENT
END:VCALENDAR
