BEGIN:VCALENDAR
PRODID:-//kirchenweb.ch gmbh//veranstaltungsausgabe v2.0//DE
VERSION:2.0
METHOD:PUBLISH
BEGIN:VEVENT
DTSTART:20240907T120000Z
DTEND:20240907T150000Z
LOCATION:Evangelisch-Reformierte Kirche Wangen\, Mittelgäustrasse 19\,
  4612 Wangen b. Olten
TRANSP:OPAQUE
SEQUENCE:0
UID:23843-veranstaltung@ref-olten.ch
DTSTAMP:20260325T133009Z
DESCRIPTION:Wir erleben ein Programm mit Basteln\, Sport\, Rätseln\,
  Schauspiel\, Musik\, feinem Zvieri und toller Gemeinschaft.\n\nBitte
  ziehe dem Wetter entsprechende Kleidung an. Wir werden uns auch viel
  draussen aufhalten.\n\nAllgemeine Infos zur Jungschi OmG sind auf unserer
  Infoseite zu finden: https://www.ref-olten.ch/untergaeu-jungschi-omg\,
 \nz.B. Hinweise zum Treffpunkt\, was du mitnehmen kannst und die weiteren
  Daten\n\nWir freuen uns\, wenn auch du dabei bist und mit uns einen
  spannenden Nachmittag erlebst.\n\nKontakt: Sozialdiakonin Manuela
  Schällmann\, Grossmattstrasse 4\, 4614 Hägendorf\,
  manuela.schaellmann@ref-olten.ch\, 062 216 18 26\nMatthias Hunn\,
  matthias.hunn@ref-olten.ch\n\nWeitere Infos:
  https://www.ref-olten.ch/veranstaltung/23843
SUMMARY:Jungschi OmG
PRIORITY:5
X-MICROSOFT-CDO-IMPORTANCE:1
CLASS:PUBLIC
END:VEVENT
END:VCALENDAR
