BEGIN:VCALENDAR
PRODID:-//kirchenweb.ch gmbh//veranstaltungsausgabe v2.0//DE
VERSION:2.0
METHOD:PUBLISH
BEGIN:VEVENT
DTSTART:20250525T080000Z
DTEND:20250525T090000Z
LOCATION:Friedenskirche\, Reiserstrasse 89\, 4600 Olten
TRANSP:OPAQUE
SEQUENCE:0
UID:23908-veranstaltung@ref-olten.ch
DTSTAMP:20250613T143541Z
DESCRIPTION:Konfirmation! Gottesdienst\n\nKontakt: Pfr. Uwe Kaiser\, 062
  296 22 60\n\nWeitere Infos: https://www.ref-olten.ch/veranstaltung/23908
SUMMARY:Konfirmationsgottesdienst Friedenskirche
PRIORITY:5
X-MICROSOFT-CDO-IMPORTANCE:1
CLASS:PUBLIC
END:VEVENT
END:VCALENDAR
