BEGIN:VCALENDAR
PRODID:-//kirchenweb.ch gmbh//veranstaltungsausgabe v2.0//DE
VERSION:2.0
METHOD:PUBLISH
BEGIN:VEVENT
DTSTART:20250727T080000Z
DTEND:20250727T090000Z
LOCATION:Evangelisch-Reformierte Kirche Hägendorf\, Bodenmattstrasse 1\,
  4614 Hägendorf
TRANSP:OPAQUE
SEQUENCE:0
UID:23918-veranstaltung@ref-olten.ch
DTSTAMP:20250618T152418Z
DESCRIPTION:In den Zentralgottesdiensten während der Sommerferien
  beschäftigen wir uns mit der spannenden Geschichte des Propheten Jona.
 \nThema 27. Juli: Eine ganze Stadt kehrt zu Gott um. (Jona 3)\n\nKontakt:
  Pfarrer Thierry Wey\, 077 437 21 60\n\nWeitere Infos:
  https://www.ref-olten.ch/veranstaltung/23918
SUMMARY:Zentralgottesdienst in Hägendorf im Rahmen der Sommerferienreihe
  zu Jona
PRIORITY:5
X-MICROSOFT-CDO-IMPORTANCE:1
CLASS:PUBLIC
END:VEVENT
END:VCALENDAR
