BEGIN:VCALENDAR
PRODID:-//kirchenweb.ch gmbh//veranstaltungsausgabe v2.0//DE
VERSION:2.0
METHOD:PUBLISH
BEGIN:VEVENT
DTSTART:20251012T080000Z
DTEND:20251012T090000Z
LOCATION:Trimbach\, Johanneskirche\, Chäppeligass 39\, 4632 Trimbach
TRANSP:OPAQUE
SEQUENCE:0
UID:23928-veranstaltung@ref-olten.ch
DTSTAMP:20251009T105545Z
DESCRIPTION:Zentraler Gottesdienst der Gesamtkirchgemeinde\nmit Abendmahl
 \n\nLieder:\n1. RG 244 «Brunn alles Heils\, dich ehren wir»\n2.
  https://www.youtube.com/watch?v=2bhAgs62Pes\n3. RG 97 «Aller Augen
  warten auf dich\, Herre»\n4. RG 317 «Schmücke dich\, o liebe Seele»
 \n5. RG 629 «Bescher uns\, Herr\, das täglich Brot»\n\nKontakt: Pfarrer
  Thierry Wey\, 077 437 21 60\n\nWeitere Infos:
  https://www.ref-olten.ch/veranstaltung/23928
SUMMARY:Zentralgottesdienst in Trimbach
PRIORITY:5
X-MICROSOFT-CDO-IMPORTANCE:1
CLASS:PUBLIC
END:VEVENT
END:VCALENDAR
