BEGIN:VCALENDAR
PRODID:-//kirchenweb.ch gmbh//veranstaltungsausgabe v2.0//DE
VERSION:2.0
METHOD:PUBLISH
BEGIN:VEVENT
DTSTART:20251109T090000Z
DTEND:20251109T100000Z
LOCATION:Friedenskirche\, Reiserstrasse 89\, 4600 Olten
TRANSP:OPAQUE
SEQUENCE:0
UID:23932-veranstaltung@ref-olten.ch
DTSTAMP:20251029T182431Z
DESCRIPTION:Kontakt: Pfrn. Melanie Ludwig\, 062 212 48 84\n\nWeitere
  Infos: https://www.ref-olten.ch/veranstaltung/23932
SUMMARY:Musikalischer Gottesdienst mit Taufe in unserer Friedenskirche
PRIORITY:5
X-MICROSOFT-CDO-IMPORTANCE:1
CLASS:PUBLIC
END:VEVENT
END:VCALENDAR
