BEGIN:VCALENDAR
PRODID:-//kirchenweb.ch gmbh//veranstaltungsausgabe v2.0//DE
VERSION:2.0
METHOD:PUBLISH
BEGIN:VEVENT
DTSTART:20241026T120000Z
DTEND:20241026T150000Z
LOCATION:Evangelisch-Reformierte Kirche Wangen\, Mittelgäustrasse 19\,
  4612 Wangen b. Olten
TRANSP:OPAQUE
SEQUENCE:0
UID:24167-veranstaltung@ref-olten.ch
DTSTAMP:20241018T171130Z
DESCRIPTION:Sind deine Kresse-Schäfchen vom letzten Jungschi-Nachmittag
  auch so schön wie unsere gewachsen? Für was hast du die feinen
  Kressekräuter verwendet?\n\nIn der Bibel hat Jesus viele Gleichnisse
  erzählt. Bis Ende Jahr machen wir diese mit Basteln\, Sport\, Rätseln\,
  Schauspiel\, Musik\, feinem Zvieri und toller Gemeinschaft erlebbar. Beim
  ersten Jungschi-Nachmittag erlebten wir das Gleichnis von grossen
  Festmahl. Am letzten Jungschi-Nachmittag waren wir auf der Suche nach dem
  verlorenen Schaf. Welches Gleichnis ist wohl heute dran?\n\nAllgemeine
  Infos zur Jungschi OmG sind auf unserer Infoseite zu finden:
  https://www.ref-olten.ch/untergaeu-jungschi-omg\,\nz.B. Hinweise zum
  Treffpunkt\, was du mitnehmen kannst und die weiteren Daten\n\nWir freuen
  uns\, wenn auch du dabei bist und mit uns einen spannenden Nachmittag
  erlebst. Als Belohnung für deinen Besuch\, darfst du am Sonntagmorgen
  eine Stunde länger schlafen :-) !\n\nKontakt: Sozialdiakonin Manuela
  Schällmann\, Grossmattstrasse 4\, 4614 Hägendorf\,
  manuela.schaellmann@ref-olten.ch\, 062 216 18 26\nMatthias Hunn\,
  matthias.hunn@ref-olten.ch\n\nWeitere Infos:
  https://www.ref-olten.ch/veranstaltung/24167
SUMMARY:Jungschi OmG
PRIORITY:5
X-MICROSOFT-CDO-IMPORTANCE:1
CLASS:PUBLIC
END:VEVENT
END:VCALENDAR
