BEGIN:VCALENDAR
PRODID:-//kirchenweb.ch gmbh//veranstaltungsausgabe v2.0//DE
VERSION:2.0
METHOD:PUBLISH
BEGIN:VEVENT
DTSTART:20241207T130000Z
DTEND:20241207T160000Z
LOCATION:Evangelisch-Reformierte Kirche Wangen\, Mittelgäustrasse 19\,
  4612 Wangen b. Olten
TRANSP:OPAQUE
SEQUENCE:0
UID:24169-veranstaltung@ref-olten.ch
DTSTAMP:20241208T004752Z
DESCRIPTION:In der Bibel hat Jesus viele Gleichnisse erzählt. Bis Ende
  Jahr machen wir diese mit Basteln\, Sport\, Rätseln\, Schauspiel\,
  Musik\, feinem Zvieri und toller Gemeinschaft erlebbar. Beim ersten
  Jungschi-Nachmittag erlebten wir das Gleichnis von grossen Festmahl und
  am zweiten Jungschi-Nachmittag suchten wir das verlorene Schaf. Am
  dritten Jungschi-Nachmittag verkaufte ein Händler alles was er hatte\,
  für eine einzige\, aber sehr wertvolle Perle. Welches Gleichnis ist wohl
  heute dran?\n\nAllgemeine Infos zur Jungschi OmG sind auf unserer
  Infoseite zu finden: https://www.ref-olten.ch/untergaeu-jungschi-omg\,
 \nz.B. Hinweise zum Treffpunkt\, was du mitnehmen kannst und die weiteren
  Daten\n\nWir freuen uns\, wenn auch du dabei bist und mit uns einen
  spannenden Nachmittag erlebst.\n\nKontakt: Matthias Hunn\,
  matthias.hunn@ref-olten.ch\n\nWeitere Infos:
  https://www.ref-olten.ch/veranstaltung/24169
SUMMARY:Jungschi OmG
PRIORITY:5
X-MICROSOFT-CDO-IMPORTANCE:1
CLASS:PUBLIC
END:VEVENT
END:VCALENDAR
