BEGIN:VCALENDAR
PRODID:-//kirchenweb.ch gmbh//veranstaltungsausgabe v2.0//DE
VERSION:2.0
METHOD:PUBLISH
BEGIN:VEVENT
DTSTART:20250621T080000Z
DTEND:20250621T120000Z
LOCATION:Reformiertes Kirchgemeindehaus\, Rebenfluhweg 36\, 4652 Winznau
TRANSP:OPAQUE
SEQUENCE:0
UID:24465-veranstaltung@ref-olten.ch
DTSTAMP:20241008T111321Z
DESCRIPTION:Einmal im Monat am Samstag öffnen sich im Kirchgemeindehaus
  in Winznau die Türen zur Büchertauschbörse. Die vielen kostenlosen
  Bücher aus zweiter Hand laden zum Stöbern und Verweilen ein.\n
 \nKontakt:  \nSandra Bieri\, 062 293 16 89\n\nWeitere Infos:
  https://www.ref-olten.ch/veranstaltung/24465
SUMMARY:Büchertauschbörse
PRIORITY:5
X-MICROSOFT-CDO-IMPORTANCE:1
CLASS:PUBLIC
END:VEVENT
END:VCALENDAR
