BEGIN:VCALENDAR
PRODID:-//kirchenweb.ch gmbh//veranstaltungsausgabe v2.0//DE
VERSION:2.0
METHOD:PUBLISH
BEGIN:VEVENT
DTSTART:20250511T080000Z
DTEND:20250511T090000Z
LOCATION:Johanneskirche\, Chäppeligass 39\, 4632 Trimbach
TRANSP:OPAQUE
SEQUENCE:0
UID:24518-veranstaltung@ref-olten.ch
DTSTAMP:20250425T132032Z
DESCRIPTION:Herzlich Willkommen zum Gottesdienst am Muttertag.\nWie
  gewohnt sind alle anschliessend zum Chilekafi eingeladen.\n\nKontakt:
  Pfarrer Andreas Haag\, 062 293 32 42\n\nWeitere Infos:
  https://www.ref-olten.ch/veranstaltung/24518
SUMMARY:Gottesdienst am Muttertag in der Johanneskirche
PRIORITY:5
X-MICROSOFT-CDO-IMPORTANCE:1
CLASS:PUBLIC
END:VEVENT
END:VCALENDAR
