BEGIN:VCALENDAR
PRODID:-//kirchenweb.ch gmbh//veranstaltungsausgabe v2.0//DE
VERSION:2.0
METHOD:PUBLISH
BEGIN:VEVENT
DTSTART:20251203T183000Z
DTEND:20251203T203000Z
LOCATION:Johanneskirche\, Chäppeligass 39\, 4632 Trimbach
TRANSP:OPAQUE
SEQUENCE:0
UID:24686-veranstaltung@ref-olten.ch
DTSTAMP:20251011T141712Z
DESCRIPTION:Wir sind eine kunterbunte Gruppe von Menschen verschiedensten
  Alters\, die sich rund alle 14 Tage treffen um gemeinsam die Freude am
  Kreistanz auszuleben.\n\nWir freuen uns über jedes neue Gesicht in
  unserer Gruppe - Einsteigen ist jederzeit möglich!\n\nKosten:  CHF 200.-
  pro Halbjahr\n\nKontakt: Ursula Rutschi\, 062 293 30 62\n\nWeitere Infos:
  https://www.ref-olten.ch/veranstaltung/24686
SUMMARY:Kreistanz noch in Trimbach
PRIORITY:5
X-MICROSOFT-CDO-IMPORTANCE:1
CLASS:PUBLIC
END:VEVENT
END:VCALENDAR
