BEGIN:VCALENDAR
PRODID:-//kirchenweb.ch gmbh//veranstaltungsausgabe v2.0//DE
VERSION:2.0
METHOD:PUBLISH
BEGIN:VEVENT
DTSTART:20251106T130000Z
DTEND:20251106T160000Z
LOCATION:Johanneskirche\, Chäppeligass 39\, 4632 Trimbach
TRANSP:OPAQUE
SEQUENCE:0
UID:24757-veranstaltung@ref-olten.ch
DTSTAMP:20241105T093504Z
DESCRIPTION:Alle jass-freudigen Menschen sind herzlich eingeladen am
  Donnerstag Nachmittag einen\nzünftigen Jass zu klopfen.\n\nKontakt:
  Ursula Brechbühler 062 293 28 24\n\nWeitere Infos:
  https://www.ref-olten.ch/veranstaltung/24757
SUMMARY:Jassen
PRIORITY:5
X-MICROSOFT-CDO-IMPORTANCE:1
CLASS:PUBLIC
END:VEVENT
END:VCALENDAR
