BEGIN:VCALENDAR
PRODID:-//kirchenweb.ch gmbh//veranstaltungsausgabe v2.0//DE
VERSION:2.0
METHOD:PUBLISH
BEGIN:VEVENT
DTSTART:20251209T180000Z
DTEND:20251209T203000Z
LOCATION:Johanneskirche\, Chäppeligass 39\, 4632 Trimbach
TRANSP:OPAQUE
SEQUENCE:0
UID:24820-veranstaltung@ref-olten.ch
DTSTAMP:20260126T192803Z
DESCRIPTION:Wir feiern gemeinsam die Advents- und Weihnachtszeit. Da es
  dabei auch ein Essen gibt\, ist eine Anmeldung bis spätestens 6.
  Dezember nötig. \n\nKontakt: Ursula Rutschi\, 062 293 30 62\n\nWeitere
  Infos: https://www.ref-olten.ch/veranstaltung/24820
SUMMARY:Ladies-Night und Männergruppe - Adventfeier
PRIORITY:5
X-MICROSOFT-CDO-IMPORTANCE:1
CLASS:PUBLIC
END:VEVENT
END:VCALENDAR
