BEGIN:VCALENDAR
PRODID:-//kirchenweb.ch gmbh//veranstaltungsausgabe v2.0//DE
VERSION:2.0
METHOD:PUBLISH
BEGIN:VEVENT
DTSTART:20250804T070000Z
DTEND:20250804T160000Z
LOCATION:Evangelisch-Reformierte Kirche Wangen\, Mittelgäustrasse 19\,
  4612 Wangen
TRANSP:OPAQUE
SEQUENCE:0
UID:24977-veranstaltung@ref-olten.ch
DTSTAMP:20250803T142711Z
DESCRIPTION:Ferie-Chill präsentiert:\nMinecraft and touch grass\n
 \nTagesferienlager für Jugendliche\n\nProgramm:\n9-11 Uhr Zuhause auf den
  PCs und Konsolen Minecraft spielen auf gemeinsamem Server\n12 Uhr
  Mittagessen in der Kirche Wangen\n-17/18 Uhr Ausflüge (z.B.
  Bowling/Grillieren etc.) oder Turniere (z.B. Ping-Pong/Döggeli Turnier
  etc.)\n\nFreitag: Abschlussapéro mit den Familien/Freunden in der Kirche
  Wangen\, Vorstellung der Minecraft - Welt\, die die Jugendlichen gebaut
  haben.\n\nKontakt: Sozialdiakonin Sian Surer\, 062 295 42 12\n\nWeitere
  Infos: https://www.ref-olten.ch/veranstaltung/24977
SUMMARY:Ferie Chill: Minecraft and touch grass ABGESAGT
PRIORITY:5
X-MICROSOFT-CDO-IMPORTANCE:1
CLASS:PUBLIC
END:VEVENT
END:VCALENDAR
