BEGIN:VCALENDAR
PRODID:-//kirchenweb.ch gmbh//veranstaltungsausgabe v2.0//DE
VERSION:2.0
METHOD:PUBLISH
BEGIN:VEVENT
DTSTART:20250424T120000Z
DTEND:20250424T150000Z
LOCATION:Evangelisch-Reformierte Kirche Wangen\, Mittelgäustrasse 19\,
  4612 Wangen
TRANSP:OPAQUE
SEQUENCE:0
UID:25115-veranstaltung@ref-olten.ch
DTSTAMP:20241202T104827Z
DESCRIPTION:Kontakt: Andreas Schindelholz\, 062 213 85 20\n\nWeitere
  Infos: https://www.ref-olten.ch/veranstaltung/25115
SUMMARY:World Café
PRIORITY:5
X-MICROSOFT-CDO-IMPORTANCE:1
CLASS:PUBLIC
END:VEVENT
END:VCALENDAR
