BEGIN:VCALENDAR
PRODID:-//kirchenweb.ch gmbh//veranstaltungsausgabe v2.0//DE
VERSION:2.0
METHOD:PUBLISH
BEGIN:VEVENT
DTSTART:20250125T130000Z
DTEND:20250125T160000Z
LOCATION:Brunnen Pausenplatz Schulhaus Hinterbüel\, Hinterbüelstrasse
  43\, 4612 Wangen bei Olten
TRANSP:OPAQUE
SEQUENCE:0
UID:25151-veranstaltung@ref-olten.ch
DTSTAMP:20250116T101855Z
DESCRIPTION:Hinweis: infolge Terminkollision mussten wir den
  Jungschi-Nachmittag vom 18.1. auf den 25.1.2025 verschieben. Herzlichen
  Dank für eure Flexibilität.\n\nDiesen Samstag starten wir nun das erste
  Mal beim Schulhaus Hinterbüel in Wangen. Wir werden den ganzen
  Nachmittag im Wald und auf der Schulhauswiese verbringen. Ziehe dich
  bitte warm an.\n\nFalls vorhanden\, kannst du für den Zvieri ein
  unzerbrechliches Schäleli (z.B. aus Plastik) und einen Löffel
  mitnehmen. Vergiss nicht etwas zu Trinken einzupacken.\n\nAllgemeine
  Infos zur Jungschi OmG sind auf unserer Infoseite zu finden:
  https://www.ref-olten.ch/untergaeu-jungschi-omg\,\nz.B. Hinweise zum
  Treffpunkt\, was du mitnehmen kannst und die weiteren Daten.\n\nWir
  freuen uns\, wenn auch du dabei bist und mit uns einen spannenden
  Nachmittag erlebst.\n\nKontakt: Matthias Hunn\,
  matthias.hunn@ref-olten.ch\n\nWeitere Infos:
  https://www.ref-olten.ch/veranstaltung/25151
SUMMARY:Jungschi OmG
PRIORITY:5
X-MICROSOFT-CDO-IMPORTANCE:1
CLASS:PUBLIC
END:VEVENT
END:VCALENDAR
