BEGIN:VCALENDAR
PRODID:-//kirchenweb.ch gmbh//veranstaltungsausgabe v2.0//DE
VERSION:2.0
METHOD:PUBLISH
BEGIN:VEVENT
DTSTART:20250518T170000Z
DTEND:20250518T180000Z
LOCATION:Bruder-Klaus-Kirche\, \, 4618 Boningen
TRANSP:OPAQUE
SEQUENCE:0
UID:25208-veranstaltung@ref-olten.ch
DTSTAMP:20250526T083122Z
DESCRIPTION:liturgischer Abendgottesdienst zum Thema Frieden\n
 \nliturgische Gebete – Taizé-Lieder - kurze Predigt – Besinnung und
  Ruhe\nAb 18:30 Uhr üben wir die Taizé-Lieder für alle\, die gerne den
  mehrstimmigen Gesang ausprobieren möchten.\n\n\njeweils am Sonntag um
  19.00 Uhr\n16. Februar: Friede mit Gott\n18. Mai: Friede untereinander
 \n29. Juni *\n24. August: innerer Friede\n26. Oktober **\n14. Dezember:
  Weltfrieden\n\n\n* Ausnahme: ökumenischer Gottesdienst im Eichlibann
  Boningen um 19.30 Uhr\,\nmit der Musikgesellschaft Boningen\,
  anschliessend Kaffee und Kuchen\n(Bei schlechtem Wetter findet der
  Gottesdienst in der Bruder Klaus Kirche statt.)\n** Erntedankfeier mit
  dem Kirchenchor Untergäu\, anschliessend Apéro\n\nKontakt: Pfarrer
  Thierry Wey\, 077 437 21 60\n\nWeitere Infos:
  https://www.ref-olten.ch/veranstaltung/25208
SUMMARY:Liturgischer Abendgottesdienst in Boningen
PRIORITY:5
X-MICROSOFT-CDO-IMPORTANCE:1
CLASS:PUBLIC
END:VEVENT
END:VCALENDAR
