BEGIN:VCALENDAR
PRODID:-//kirchenweb.ch gmbh//veranstaltungsausgabe v2.0//DE
VERSION:2.0
METHOD:PUBLISH
BEGIN:VEVENT
DTSTART:20250902T093000Z
DTEND:20250902T110000Z
LOCATION:Johanneskirche\, Chäppeligass 39\, 4632 Trimbach
TRANSP:OPAQUE
SEQUENCE:0
UID:25514-veranstaltung@ref-olten.ch
DTSTAMP:20250102T133724Z
DESCRIPTION:Offener Mittagstisch für alle Interessierten.\nPreis:
  Erwachsene 9 Fr.\, Kinder: 5 Fr.\nDer Erlös wird regelmässig an
  ausgewählte Projekte gespendet.\n\nKontakt: Maja Tanner \n\nWeitere
  Infos: https://www.ref-olten.ch/veranstaltung/25514
SUMMARY:"Zyt ha fürenand - ässe mitenand" in Trimbach
PRIORITY:5
X-MICROSOFT-CDO-IMPORTANCE:1
CLASS:PUBLIC
END:VEVENT
END:VCALENDAR
