BEGIN:VCALENDAR
PRODID:-//kirchenweb.ch gmbh//veranstaltungsausgabe v2.0//DE
VERSION:2.0
METHOD:PUBLISH
BEGIN:VEVENT
DTSTART:20260127T070000Z
DTEND:20260127T210000Z
LOCATION:Pauluskirche\, Grundstrasse 18\, 4600 Olten
TRANSP:OPAQUE
SEQUENCE:0
UID:25625-veranstaltung@ref-olten.ch
DTSTAMP:20260115T103547Z
DESCRIPTION:Kontakt: Beat Bachmann\, Diakonischer Mitarbeiter\, 076 522 41
  89\n\nWeitere Infos: https://www.ref-olten.ch/veranstaltung/25625
SUMMARY:Ausstellung "Geheimnis Bibel"
PRIORITY:5
X-MICROSOFT-CDO-IMPORTANCE:1
CLASS:PUBLIC
END:VEVENT
END:VCALENDAR
