BEGIN:VCALENDAR
PRODID:-//kirchenweb.ch gmbh//veranstaltungsausgabe v2.0//DE
VERSION:2.0
METHOD:PUBLISH
BEGIN:VEVENT
DTSTART:20250523T160000Z
DTEND:20250523T210000Z
LOCATION:Evangelisch-Reformierte Kirche Hägendorf\, Bodenmattstrasse 1\,
  4614 Hägendorf
TRANSP:OPAQUE
SEQUENCE:0
UID:25781-veranstaltung@ref-olten.ch
DTSTAMP:20250521T074907Z
DESCRIPTION:Herzlich willkommen in Hägendorf!\n\nFood Corner\,
  18.00-21.00 Uhr\nSpätzlipfanne vegetarisch oder mit Poulet und Hotdogs
 \n> Festwirtschaft findet draussen statt\n\nEscape Room: Das Geisterkino\,
  18.00-22.00 Uh\nEntschlüssle rätselhafte Hinweise\, entkomme dem
  spukenden Schatten. Anmeldung erforderlich.
 \nhttps://eventfrog.ch/de/p/gruppen/escaperoom-das-geisterkino-73078678413
 31521092.html\n\n Heidi und der Psalm: zwei Vorstellungen\, \n18.00-18.45
  Uhr und 19.00-19.45 Uhr\nHeidi wohin gehst du? Geschichte zu Psalm 121
  aus der Sicht von Heidi.\nFür alle Alterskategorien.\n\n Dance Workshop:
  zwei Workshops\, 18.00-18.50 Uhr und 19.00-19.50 Uhr\nLerne coole Moves\,
  spüre die Musik und tanze voller Energie und Spass - für Alle!\n
 \nPantomime Predigt mit Christoph Schwager\, 20.00 Uhr\nÜbersetzung in
  Gebärdensprache möglich. Anmeldung:
  https://brigitte.stoffel@ref-olten.ch \nErlebe eine bewegende Botschaft
  ohne Worte\, aber voller Ausdruck und Tiefe!\nFür alle Alterskategorien.
 \n\n Filmvorstellung: "The Case for Christ"\, 21.30 Uhr\n"Der Fall Jesu".
  Die wahre Geschichte einer Spurensuche. \nBegleite Lee Strobel\, einen
  skeptischen Journalisten auf seiner packenden Reise\, das Christentum zu
  widerlegen. Er stösst dabei auf überraschende Erkenntnisse.\nFSK ab 12
  Jahren.\n\nRadiospot: \n\nKontakt: Andreas Schindelholz\, 062 213 85 20\n
 \nWeitere Infos: https://www.ref-olten.ch/veranstaltung/25781
SUMMARY:Lange Nacht der Kirchen
PRIORITY:5
X-MICROSOFT-CDO-IMPORTANCE:1
CLASS:PUBLIC
END:VEVENT
END:VCALENDAR
