BEGIN:VCALENDAR
PRODID:-//kirchenweb.ch gmbh//veranstaltungsausgabe v2.0//DE
VERSION:2.0
METHOD:PUBLISH
BEGIN:VEVENT
DTSTART:20250926T120000Z
DTEND:20250926T140000Z
LOCATION:Josefssaal\, St. Martin\, Grundstrasse 6\, 4600 Olten
TRANSP:OPAQUE
SEQUENCE:0
UID:25806-veranstaltung@ref-olten.ch
DTSTAMP:20250708T080957Z
DESCRIPTION:Seniorennachmittag: «Hört der Humor auf\, wo Religion
  beginnt? 	Hat Jesus auch gelacht?» Vortrag und Cartoons von Pfarrer Dr.
  Niklaus Peter\, Zürich\nVorsicht: Aufgrund von Bauarbeiten in der
  Pauluskirche findet dieser Anlass im Josefssaal der Martinskirche statt.
  Eingang von Norden\, Lift vorhanden.\n\nKontakt: Pfr. Uwe Kaiser\, 062
  296 22 60\n\nWeitere Infos: https://www.ref-olten.ch/veranstaltung/25806
SUMMARY:aktiv 66+ Seniorennachmittag
PRIORITY:5
X-MICROSOFT-CDO-IMPORTANCE:1
CLASS:PUBLIC
END:VEVENT
END:VCALENDAR
