BEGIN:VCALENDAR
PRODID:-//kirchenweb.ch gmbh//veranstaltungsausgabe v2.0//DE
VERSION:2.0
METHOD:PUBLISH
BEGIN:VEVENT
DTSTART:20250921T090000Z
DTEND:20250921T100000Z
LOCATION:Römisch-katholische Kirche St. Karl\, Kirchweg\, 4652 Winznau
TRANSP:OPAQUE
SEQUENCE:0
UID:25843-veranstaltung@ref-olten.ch
DTSTAMP:20250204T121035Z
DESCRIPTION:Ökumenischer Bettags-Gottesdienst unter der Linde beim
  Pfarreisaal oder bei schlechtem Wetter in der Kirche Winznau. \nFür die
  Kinder wird ein spezieller Programmteil durch das Chile-mit-Chind Team
  gestaltet.\nAnschliessend Teilete.\n\nKontakt: Sozialdiakonin Sian
  Surer\, 062 295 42 12\n\nWeitere Infos:
  https://www.ref-olten.ch/veranstaltung/25843
SUMMARY:Ökumenischer Bettags-Gottesdienst in Winznau mit Chile mit Chind
PRIORITY:5
X-MICROSOFT-CDO-IMPORTANCE:1
CLASS:PUBLIC
END:VEVENT
END:VCALENDAR
