BEGIN:VCALENDAR
PRODID:-//kirchenweb.ch gmbh//veranstaltungsausgabe v2.0//DE
VERSION:2.0
METHOD:PUBLISH
BEGIN:VEVENT
DTSTART:20250618T080000Z
DTEND:20250618T082000Z
LOCATION:Klosterkirche Olten\, Klosterplatz 12\, 4600 Olten
TRANSP:OPAQUE
SEQUENCE:0
UID:25868-veranstaltung@ref-olten.ch
DTSTAMP:20250206T142920Z
DESCRIPTION:Gebet für den Frieden. 20 Minuten innehalten während der
  Marktzeit. \nGeleitet von einem ökumenischen Team\nWegen Fronleichnam
  ausnahmsweise am Mittwoch!\n\nKontakt: Eveline Schärli\n\nWeitere Infos:
  https://www.ref-olten.ch/veranstaltung/25868
SUMMARY:Friedensgebet
PRIORITY:5
X-MICROSOFT-CDO-IMPORTANCE:1
CLASS:PUBLIC
END:VEVENT
END:VCALENDAR
