BEGIN:VCALENDAR
PRODID:-//kirchenweb.ch gmbh//veranstaltungsausgabe v2.0//DE
VERSION:2.0
METHOD:PUBLISH
BEGIN:VEVENT
DTSTART:20250801T083000Z
DTEND:20250801T093000Z
LOCATION:Raiffeisen Arena\, Gäustrasse 10\, 4614 Hägendorf
TRANSP:OPAQUE
SEQUENCE:0
UID:25951-veranstaltung@ref-olten.ch
DTSTAMP:20250730T144308Z
DESCRIPTION:ökumenischer Gottesdienst im Rahmen der Bundesfeier in
  Hägendorf\nim Anschluss Festrede und Mittagessen für Einwohner von
  Hägendorf\n\nDer Anlass findet in der Raiffeisen Arena statt
  (Schlechtwettervariante).\n\nKontakt: Pfarrer Thierry Wey\, 077 437 21 60
 \n\nWeitere Infos: https://www.ref-olten.ch/veranstaltung/25951
SUMMARY:Ökumenischer Gottesdienst Bundesfeier Hägendorf
PRIORITY:5
X-MICROSOFT-CDO-IMPORTANCE:1
CLASS:PUBLIC
END:VEVENT
END:VCALENDAR
