BEGIN:VCALENDAR
PRODID:-//kirchenweb.ch gmbh//veranstaltungsausgabe v2.0//DE
VERSION:2.0
METHOD:PUBLISH
BEGIN:VEVENT
DTSTART:20250907T080000Z
DTEND:20250907T120000Z
LOCATION:Evangelisch-Reformierte Kirche Hägendorf\, Bodenmattstrasse 1\,
  4614 Hägendorf
TRANSP:OPAQUE
SEQUENCE:0
UID:25983-veranstaltung@ref-olten.ch
DTSTAMP:20250906T143400Z
DESCRIPTION:Gottesdienst mit anschliessendem Mittagessen\n\nVerschiedene
  Gruppen aus der Untergäuer Gemeinde wirken mit und gestalten gemeinsam
  den Gottesdienst.\nUnter anderem: Jungschar OmG\, Runder Tisch\,
  Elterngebet\, Pop-Up\, Strickgruppe etc.\n\nDie neuen Konfirmanden werden
  vorgestellt.\n\nKontakt: Pfarrer Thierry Wey\, 077 437 21 60\n\nWeitere
  Infos: https://www.ref-olten.ch/veranstaltung/25983
SUMMARY:Gemeindefest Untergäu in Hägendorf
PRIORITY:5
X-MICROSOFT-CDO-IMPORTANCE:1
CLASS:PUBLIC
END:VEVENT
END:VCALENDAR
