BEGIN:VCALENDAR
PRODID:-//kirchenweb.ch gmbh//veranstaltungsausgabe v2.0//DE
VERSION:2.0
METHOD:PUBLISH
BEGIN:VEVENT
DTSTART:20251123T090000Z
DTEND:20251123T100000Z
LOCATION:Evangelisch-Reformierte Kirche Hägendorf\, Bodenmattstrasse 1\,
  4614 Hägendorf
TRANSP:OPAQUE
SEQUENCE:0
UID:25993-veranstaltung@ref-olten.ch
DTSTAMP:20251119T075422Z
DESCRIPTION:Wir denken an alle Verstorbenen des vergangenen Kirchenjahres.
 \n\nEs singt der Kirchenchor Untergäu.\n\nLieder:\nRG 167 «Du hast uns\,
  Herr\, gerufen»\nRG 865 «Herr\, mach uns stark»\n\nKontakt: Pfarrer
  Thierry Wey\, 077 437 21 60\n\nWeitere Infos:
  https://www.ref-olten.ch/veranstaltung/25993
SUMMARY:Gottesdienst zum Ewigkeitssonntag in Hägendorf
PRIORITY:5
X-MICROSOFT-CDO-IMPORTANCE:1
CLASS:PUBLIC
END:VEVENT
END:VCALENDAR
