BEGIN:VCALENDAR
PRODID:-//kirchenweb.ch gmbh//veranstaltungsausgabe v2.0//DE
VERSION:2.0
METHOD:PUBLISH
BEGIN:VEVENT
DTSTART:20250625T100000Z
DTEND:20250625T113000Z
LOCATION:Zwinglikirche\, Kleinfeld 2A\, 4657 Dulliken
TRANSP:OPAQUE
SEQUENCE:0
UID:26055-veranstaltung@ref-olten.ch
DTSTAMP:20250303T071954Z
DESCRIPTION:ökum. Frauengemeinschaft\n\nKontakt: Margrit Gürel\,
  margrit.guerel@ref-olten.ch\n\nWeitere Infos:
  https://www.ref-olten.ch/veranstaltung/26055
SUMMARY:Zäme ässe
PRIORITY:5
X-MICROSOFT-CDO-IMPORTANCE:1
CLASS:PUBLIC
END:VEVENT
END:VCALENDAR
