BEGIN:VCALENDAR
PRODID:-//kirchenweb.ch gmbh//veranstaltungsausgabe v2.0//DE
VERSION:2.0
METHOD:PUBLISH
BEGIN:VEVENT
DTSTART:20260916T170000Z
DTEND:20260916T190000Z
LOCATION:Zwinglikirche\, Kleinfeld 2A\, 4657 4657 Dulliken
TRANSP:OPAQUE
SEQUENCE:0
UID:26115-veranstaltung@ref-olten.ch
DTSTAMP:20251219T172311Z
DESCRIPTION:An jedem 3. und 5. Mittwoch des Monats laden wir alle Menschen
  unserer Region zu einem internationalem Beisammensein bei Kaffee und
  Gebäck ein. \n\nKontakt: Pfarrer Sascha Thiel\, 062 295 43 53\n\nWeitere
  Infos: https://www.ref-olten.ch/veranstaltung/26115
SUMMARY:Internationaler Treff
PRIORITY:5
X-MICROSOFT-CDO-IMPORTANCE:1
CLASS:PUBLIC
END:VEVENT
END:VCALENDAR
