BEGIN:VCALENDAR
PRODID:-//kirchenweb.ch gmbh//veranstaltungsausgabe v2.0//DE
VERSION:2.0
METHOD:PUBLISH
BEGIN:VEVENT
DTSTART:20260517T060000Z
DTEND:20260517T180000Z
LOCATION:Zwinglikirche\, Kleinfeld 2A\, 4657 Dulliken
TRANSP:OPAQUE
SEQUENCE:0
UID:26129-veranstaltung@ref-olten.ch
DTSTAMP:20250507T090225Z
DESCRIPTION:Kontakt: Pfarrer Sascha Thiel\, 062 295 43 53\n\nWeitere
  Infos: https://www.ref-olten.ch/veranstaltung/26129
SUMMARY:Oberstufe - Fahrt ins KZ Natzweiler-Struthof
PRIORITY:5
X-MICROSOFT-CDO-IMPORTANCE:1
CLASS:PUBLIC
END:VEVENT
END:VCALENDAR
