BEGIN:VCALENDAR
PRODID:-//kirchenweb.ch gmbh//veranstaltungsausgabe v2.0//DE
VERSION:2.0
METHOD:PUBLISH
BEGIN:VEVENT
DTSTART:20260512T163000Z
DTEND:20260512T173000Z
LOCATION:Zwinglikirche\, Kleinfeld 2A\, 4657 Dulliken
TRANSP:OPAQUE
SEQUENCE:0
UID:26135-veranstaltung@ref-olten.ch
DTSTAMP:20251223T063515Z
DESCRIPTION:Im Friedensgebet an jedem zweiten Dienstag im Monat bedenken
  wir gesellschaftliche und globale Probleme und beten für Frieden\,
  Gerechtigkeit und Bewahrung der Schöpfung. \n\nKontakt: Pfarrer Sascha
  Thiel\, 062 295 43 53\n\nWeitere Infos:
  https://www.ref-olten.ch/veranstaltung/26135
SUMMARY:Friedensgebet in der Zwinglikirche
PRIORITY:5
X-MICROSOFT-CDO-IMPORTANCE:1
CLASS:PUBLIC
END:VEVENT
END:VCALENDAR
