BEGIN:VCALENDAR
PRODID:-//kirchenweb.ch gmbh//veranstaltungsausgabe v2.0//DE
VERSION:2.0
METHOD:PUBLISH
BEGIN:VEVENT
DTSTART:20261122T084500Z
DTEND:20261122T094500Z
LOCATION:Zwinglikirche\, Kleinfeld 2A\, 4657 Dulliken
TRANSP:OPAQUE
SEQUENCE:0
UID:26143-veranstaltung@ref-olten.ch
DTSTAMP:20251223T064004Z
DESCRIPTION:Zum Ende des Kirchenjahres feiern wir den Gottesdienst am
  Totensonntag. Wir gedenken dort unserer im vergangenen Jahr verstorbenen
  Gemeindeglieder. Wir beten für sie und für ihre Hinterbliebenen. Und
  wir suchen Trost und Hoffnung in der christlichen Botschaft von der
  Auferstehung von den Toten. Der Apostel Paulus sagt:\n\n„Ihr braucht
  nicht traurig sein wie die anderen\, die keine Hoffnung haben.\nDenn wie
  wir glauben\, dass Jesus gestorben und auferstanden ist\,\nso wird Gott
  durch Jesus auch die Verstorbenen mit ihm zur Herrlichkeit führen.“
 \n(1. Thessalonicher 4\,13 und 14)\n\nIm Anschluss Kirchenkaffee!\n
 \nKontakt: Pfr. Sascha Thiel\n\nWeitere Infos:
  https://www.ref-olten.ch/veranstaltung/26143
SUMMARY:Gottesdienst am Totensonntag in der Zwinglikirche
PRIORITY:5
X-MICROSOFT-CDO-IMPORTANCE:1
CLASS:PUBLIC
END:VEVENT
END:VCALENDAR
