BEGIN:VCALENDAR
PRODID:-//kirchenweb.ch gmbh//veranstaltungsausgabe v2.0//DE
VERSION:2.0
METHOD:PUBLISH
BEGIN:VEVENT
DTSTART:20260301T160000Z
DTEND:20260301T173000Z
LOCATION:Johanneskirche\, Chäppeligass 39\, 4632 Trimbach
TRANSP:OPAQUE
SEQUENCE:0
UID:26273-veranstaltung@ref-olten.ch
DTSTAMP:20260301T150357Z
DESCRIPTION:Konzertlesung mit Sarah Brendel - ein inspirierender Abend mit
  Musik und Werten\n\nDie Singer-Songwriterin und Autorin Sarah Brendel
  präsentiert ihr Programm „DAS KLEINSTE IST NICHT ZU KLEIN“. Diese
  besondere Konzert-Lesung offenbart eine tiefgründige Erfahrung\, in der
  musikalische Klänge mit autobiografischen Texten und visualisierten
  Geschichten verschmelzen. \n\nKontakt: Pfarrer Andreas Haag\, 062 293 32
  42\n\nWeitere Infos: https://www.ref-olten.ch/veranstaltung/26273
SUMMARY:Konzertlesung von Sarah Brendel
PRIORITY:5
X-MICROSOFT-CDO-IMPORTANCE:1
CLASS:PUBLIC
END:VEVENT
END:VCALENDAR
