BEGIN:VCALENDAR
PRODID:-//kirchenweb.ch gmbh//veranstaltungsausgabe v2.0//DE
VERSION:2.0
METHOD:PUBLISH
BEGIN:VEVENT
DTSTART:20260308T100000Z
DTEND:20260308T120000Z
LOCATION:Zwinglikirche\, Kleinfeld 2A\, 4657 Dulliken
TRANSP:OPAQUE
SEQUENCE:0
UID:26478-veranstaltung@ref-olten.ch
DTSTAMP:20251223T063337Z
DESCRIPTION:Gottesdienst mit anschliess. Mittagessen\n\nKontakt: Pfarrer
  Sascha Thiel\, 062 295 43 53\n\nWeitere Infos:
  https://www.ref-olten.ch/veranstaltung/26478
SUMMARY:Weltgebetstag in Dulliken
PRIORITY:5
X-MICROSOFT-CDO-IMPORTANCE:1
CLASS:PUBLIC
END:VEVENT
END:VCALENDAR
