BEGIN:VCALENDAR
PRODID:-//kirchenweb.ch gmbh//veranstaltungsausgabe v2.0//DE
VERSION:2.0
METHOD:PUBLISH
BEGIN:VEVENT
DTSTART:20260305T123000Z
DTEND:20260305T150000Z
LOCATION:Evangelisch-Reformierte Kirche Wangen\, Mittelgäustrasse 15\,
  4612 Wangen
TRANSP:OPAQUE
SEQUENCE:0
UID:26490-veranstaltung@ref-olten.ch
DTSTAMP:20250424T074750Z
DESCRIPTION:Kontakt: Katharina Keller\, Haftlet 59\, 4612 Wangen b.
  Olten\, katharina.keller@ref-olten.ch\, 062 212 22 85\n\nWeitere Infos:
  https://www.ref-olten.ch/veranstaltung/26490
SUMMARY:Blocknachmittag Religion Wangen
PRIORITY:5
X-MICROSOFT-CDO-IMPORTANCE:1
CLASS:PUBLIC
END:VEVENT
END:VCALENDAR
