BEGIN:VCALENDAR
PRODID:-//kirchenweb.ch gmbh//veranstaltungsausgabe v2.0//DE
VERSION:2.0
METHOD:PUBLISH
BEGIN:VEVENT
DTSTART:20250822T130000Z
DTEND:20250822T200000Z
LOCATION:Evangelisch-Reformiertes Kirchgemeindehaus\, Grossmattstrasse 2\,
  4614 Hägendorf
TRANSP:OPAQUE
SEQUENCE:0
UID:26733-veranstaltung@ref-olten.ch
DTSTAMP:20250604T094745Z
DESCRIPTION:Kickoff: Thema "ICH". Wer bin ich vor Gott?\n\nKontakt:
  Andreas Schindelholz\, 062 213 85 20\n\nWeitere Infos:
  https://www.ref-olten.ch/veranstaltung/26733
SUMMARY:KICKOFF
PRIORITY:5
X-MICROSOFT-CDO-IMPORTANCE:1
CLASS:PUBLIC
END:VEVENT
END:VCALENDAR
