BEGIN:VCALENDAR
PRODID:-//kirchenweb.ch gmbh//veranstaltungsausgabe v2.0//DE
VERSION:2.0
METHOD:PUBLISH
BEGIN:VEVENT
DTSTART:20260503T150000Z
DTEND:20260503T160000Z
LOCATION:Pauluskirche\, Grundstrasse 18\, 4600 Olten
TRANSP:OPAQUE
SEQUENCE:0
UID:26742-veranstaltung@ref-olten.ch
DTSTAMP:20260406T143434Z
DESCRIPTION:«Heiteres Frühlingskonzert»\nLiebeslieder Polkas\n
 \nSolothurner Vokalisten\n\nAdalbert Roetschi und Caesar Oetterli Klavier
 \nPatrick Oetterli Zirkusdirektor\nPatrick Bisang Mann für alle Fälle\n
 \nPROGRAMM\n\nJohn Rutter (*1945): The Sprig of Thyme – Zyklus
  britischer Volkslieder\nAaron Copland (1900-1990) : Stomp your foot –
  Aus der Oper The Tender Land \nP.D.Q. Bach (1742-1807): Liebeslieder
  Polkas – für gemischten Chor und 5-händiges Klavier\n\nMit Vokalmusik
  aus dem englischen Sprachraum schlagen die Solothurner Vokalisten einen
  wunderlichen Bogen in ihrem heiteren Frühlingskonzert. In John Rutters
  Chorliederzyklus Sprig of Thyme rauschen noch Bächlein\, blühen Blumen
  und sitzen Verliebte unter Bäumen. In Aaron Coplands Chornummer Stomp
  your Foot bringt gut gelaunte Landbevölkerung tanzend die Wände zum
  Erzittern. Vollends aus den Fugen gerät die Welt in P.D.Q. Bachs
  humoristischen Liebeslieder Polkas. Es sind zehn Tänze des vermeintlich
  jüngsten und vergessenen Bachsohns für Chor und fünfhändige
  Klavierbegleitung\, in denen die allseits brennende Frage\, wer wohl
  Silvia sei\, einer Antwort harrt. Es darf gelacht werden.\n\nDie
  Solothurner Vokalisten bestehen seit 1961\, seit 2001 unter der Leitung
  von Patrick Oetterli. Die kleine Besetzung des Chors ermöglicht eine
  flexible Klanggestaltung und lebendiges Musizieren unter hoher
  Eigenverantwortung jedes einzelnen Choristen. Die Mitglieder der
  Solothurner Vokalisten kommen hauptsächlich aus der Jurasüdfuss-Region
  des Kantons Solothurn und angrenzenden Gebieten. Dementsprechend
  konzertiert der Chor vornehmlich in den Regionen Solothurn und Olten\,
  häufig auch im nahegelegenen Klosterbezirk St. Urban. \nIm Zentrum der
  Programmgestaltung der Solothurner Vokalisten stehen Werke aller Epochen
  von Hochbarock bis Moderne\, a cappella oder begleitet von einzelnen
  Instrumenten bis hin zu Orchester. Einen besonderen Schwerpunkt bildet
  die Chorliteratur abseits des Mainstream-Repertoires gemischter Chöre\,
  häufig mit Bezug zu Komponisten\, die dem Wirkungsfeld der Solothurner
  Vokalisten entstammen. In den letzten Jahren konnten die Vokalisten mit
  Bachs h-Moll Messe\, der Matthäuspassion und Mozarts Missa in c-Moll
  auch Werke mit einem grossen Klangkörper zur Aufführung bringen. Als
  Anerkennung für ihr musikalisches Wirken durften die Vokalisten 2017 den
  Solothurner Kulturpreis für Musik entgegennehmen.\n\n\nKontakt: Brigitte
  Salvisberg\, 062 212 95 59\n\nWeitere Infos:
  https://www.ref-olten.ch/veranstaltung/26742
SUMMARY:Abendmusik
PRIORITY:5
X-MICROSOFT-CDO-IMPORTANCE:1
CLASS:PUBLIC
END:VEVENT
END:VCALENDAR
