BEGIN:VCALENDAR
PRODID:-//kirchenweb.ch gmbh//veranstaltungsausgabe v2.0//DE
VERSION:2.0
METHOD:PUBLISH
BEGIN:VEVENT
DTSTART:20260422T103500Z
DTEND:20260422T141000Z
LOCATION:Evangelisch-Reformiertes Kirchgemeindehaus\, Grossmattstrasse 2\,
  4614 Hägendorf
TRANSP:OPAQUE
SEQUENCE:0
UID:26756-veranstaltung@ref-olten.ch
DTSTAMP:20250612T090459Z
DESCRIPTION:Obligatorischer Religionsunterrichtsblock der reformierten SuS
  der KSU mit Mittagessen.\n\nZeit: 12:35-16:10 Uhr\n\nKontakt: Andreas
  Schindelholz\, 062 213 85 20\n\nWeitere Infos:
  https://www.ref-olten.ch/veranstaltung/26756
SUMMARY:Religionsunterricht KSU
PRIORITY:5
X-MICROSOFT-CDO-IMPORTANCE:1
CLASS:PUBLIC
END:VEVENT
END:VCALENDAR
