BEGIN:VCALENDAR
PRODID:-//kirchenweb.ch gmbh//veranstaltungsausgabe v2.0//DE
VERSION:2.0
METHOD:PUBLISH
BEGIN:VEVENT
DTSTART:20260322T090000Z
DTEND:20260322T100000Z
LOCATION:Evangelisch-Reformierte Kirche Hägendorf\, Bodenmattstrasse 1\,
  4614 Hägendorf
TRANSP:OPAQUE
SEQUENCE:0
UID:26785-veranstaltung@ref-olten.ch
DTSTAMP:20260227T103358Z
DESCRIPTION:Gottesdienst mit Religionsschülern der 3. und 4. Klasse
 \nThema: Tauferinnerung\n\nmit Taufe\n\nKontakt: Pfarrer Thierry Wey\, 077
  437 21 60\n\nWeitere Infos: https://www.ref-olten.ch/veranstaltung/26785
SUMMARY:Gottesdienst mit Tauferinnerung in Hägendorf
PRIORITY:5
X-MICROSOFT-CDO-IMPORTANCE:1
CLASS:PUBLIC
END:VEVENT
END:VCALENDAR
