BEGIN:VCALENDAR
PRODID:-//kirchenweb.ch gmbh//veranstaltungsausgabe v2.0//DE
VERSION:2.0
METHOD:PUBLISH
BEGIN:VEVENT
DTSTART:20260322T090000Z
DTEND:20260322T100000Z
LOCATION:Evangelisch-Reformierte Kirche Wangen\, Mittelgäustrasse 19\,
  4612 Wangen
TRANSP:OPAQUE
SEQUENCE:0
UID:26786-veranstaltung@ref-olten.ch
DTSTAMP:20260227T103554Z
DESCRIPTION:Gottesdienst mit Religionsschülern der 3. und 4. Klasse
 \nThema: Tauferinnerung\n\nmit Taufe\n\nKontakt: Manuela Schällmann\, 062
  216 18 26\n\nWeitere Infos: https://www.ref-olten.ch/veranstaltung/26786
SUMMARY:Gottesdienst mit Tauferinnerung in Wangen
PRIORITY:5
X-MICROSOFT-CDO-IMPORTANCE:1
CLASS:PUBLIC
END:VEVENT
END:VCALENDAR
