BEGIN:VCALENDAR
PRODID:-//kirchenweb.ch gmbh//veranstaltungsausgabe v2.0//DE
VERSION:2.0
METHOD:PUBLISH
BEGIN:VEVENT
DTSTART:20260424T153000Z
DTEND:20260424T183000Z
LOCATION:Pauluskirche\, Grundstrasse 18\, 4600 Olten
TRANSP:OPAQUE
SEQUENCE:0
UID:26795-veranstaltung@ref-olten.ch
DTSTAMP:20250628T141827Z
DESCRIPTION:Konfunti - mit Verpflegung\n\nKontakt: Pfr. Uwe Kaiser\n
 \nWeitere Infos: https://www.ref-olten.ch/veranstaltung/26795
SUMMARY:Konfirmandenunterricht
PRIORITY:5
X-MICROSOFT-CDO-IMPORTANCE:1
CLASS:PUBLIC
END:VEVENT
END:VCALENDAR
