BEGIN:VCALENDAR
PRODID:-//kirchenweb.ch gmbh//veranstaltungsausgabe v2.0//DE
VERSION:2.0
METHOD:PUBLISH
BEGIN:VEVENT
DTSTART:20250918T170000Z
DTEND:20250918T190000Z
LOCATION:Friedenskirche\, Reiserstrasse 89\, 4600 Olten
TRANSP:OPAQUE
SEQUENCE:0
UID:26859-veranstaltung@ref-olten.ch
DTSTAMP:20250804T195715Z
DESCRIPTION:Die Friedenskirche soll belebt werden! \nWorkshop zum
  Austausch über die Nutzungsmöglichkeiten der Friedenskirche unter den
  gegebenen Voraussetzungen. Das Gebäude steht in den nächsten Jahren
  neben der Nutzung für Gottesdienste und Konzerte zur Verfügung.
  Investitionen können keine getätigt werden. Leben kann trotzdem
  hineinkommen.\nWir würden uns sehr freuen\, wenn Delegierte von
  möglichst vielen Organisationen und Institutionen teilnehmen und sich
  einbringen könnten.\nGerne können auch noch weitere Interessierte dazu
  eingeladen werden.\n\n\nKontakt: Pfr. Uwe Kaiser\, 062 296 22 60\n
 \nWeitere Infos: https://www.ref-olten.ch/veranstaltung/26859
SUMMARY:Workshop Belebung Friedenskirche
PRIORITY:5
X-MICROSOFT-CDO-IMPORTANCE:1
CLASS:PUBLIC
END:VEVENT
END:VCALENDAR
