BEGIN:VCALENDAR
PRODID:-//kirchenweb.ch gmbh//veranstaltungsausgabe v2.0//DE
VERSION:2.0
METHOD:PUBLISH
BEGIN:VEVENT
DTSTART:20260508T110000Z
DTEND:20260508T143000Z
LOCATION:Evangelisch-Reformiertes Kirchgemeindehaus\, Grossmattstrasse 2\,
  4614 Hägendorf
TRANSP:OPAQUE
SEQUENCE:0
UID:26894-veranstaltung@ref-olten.ch
DTSTAMP:20250702T094432Z
DESCRIPTION:Kontakt: Conny Berger\, Manuela Schällmann\n\nWeitere Infos:
  https://www.ref-olten.ch/veranstaltung/26894
SUMMARY:Blocknachmittag 1./2. Klasse Hä-Ri
PRIORITY:5
X-MICROSOFT-CDO-IMPORTANCE:1
CLASS:PUBLIC
END:VEVENT
END:VCALENDAR
