BEGIN:VCALENDAR
PRODID:-//kirchenweb.ch gmbh//veranstaltungsausgabe v2.0//DE
VERSION:2.0
METHOD:PUBLISH
BEGIN:VEVENT
DTSTART:20260522T110000Z
DTEND:20260522T143000Z
LOCATION:Evangelisch-Reformiertes Kirchgemeindehaus\, Grossmattstrasse 2\,
  4614 Hägendorf
TRANSP:OPAQUE
SEQUENCE:0
UID:26895-veranstaltung@ref-olten.ch
DTSTAMP:20250702T094548Z
DESCRIPTION:Kontakt: Conny Berger\, Manuela Schällmann\n\nWeitere Infos:
  https://www.ref-olten.ch/veranstaltung/26895
SUMMARY:Blocknachmittag 1./2. Klasse Ka-Bo
PRIORITY:5
X-MICROSOFT-CDO-IMPORTANCE:1
CLASS:PUBLIC
END:VEVENT
END:VCALENDAR
