BEGIN:VCALENDAR
PRODID:-//kirchenweb.ch gmbh//veranstaltungsausgabe v2.0//DE
VERSION:2.0
METHOD:PUBLISH
BEGIN:VEVENT
DTSTART:20260607T080000Z
DTEND:20260607T090000Z
LOCATION:Evangelisch-Reformierte Kirche Wangen\, Mittelgäustrasse 19\,
  4612 Wangen
TRANSP:OPAQUE
SEQUENCE:0
UID:26953-veranstaltung@ref-olten.ch
DTSTAMP:20251104T073131Z
DESCRIPTION:Wir singen Lieder\, sprechen kurze Gebete\, lesen und
  erzählen Bibeltexte und Geschichten..... Die Kinder erleben in diesen
  Gottesdiensten\, dass sie schon ganz klein zur Kirche gehören\, dass sie
  vollwertig sind. Sie erleben einen Ort\, an dem sie herzlich willkommen
  sind. Die Kinder erfahren singend\, hörend und spielend "ihre Kirche".
 \nSie sind alle herzlich willkommen! \n\n\nKontakt: Kathrin Hunn\, 079 771
  09 31\nKarin Felder\, 079 517 50 25\n\nWeitere Infos:
  https://www.ref-olten.ch/veranstaltung/26953
SUMMARY:Fiire mit Chind in der reformierten Kirche
PRIORITY:5
X-MICROSOFT-CDO-IMPORTANCE:1
CLASS:PUBLIC
END:VEVENT
END:VCALENDAR
