BEGIN:VCALENDAR
PRODID:-//kirchenweb.ch gmbh//veranstaltungsausgabe v2.0//DE
VERSION:2.0
METHOD:PUBLISH
BEGIN:VEVENT
DTSTART:20260923T173000Z
DTEND:20260923T183000Z
LOCATION:Evangelisch-Reformierte Kirche Wangen\, Mittelgäustrasse 19\,
  4612 Wangen
TRANSP:OPAQUE
SEQUENCE:0
UID:27022-veranstaltung@ref-olten.ch
DTSTAMP:20250807T064835Z
DESCRIPTION:Zur Ruhe kommen\, auftanken\, von Gottes Wort und Geist
  berührt werden\, mit anderen beten und anbeten\, wachsen in den
  geistlichen Gaben und Berufungen.\n\n All dies möchten wir mit unserem
  Oase-Gottesdienst ermöglichen.\n Herzlich willkommen! \n\n\nKontakt:
  Daniel Dettwiler\,077 430 38 41\n\nWeitere Infos:
  https://www.ref-olten.ch/veranstaltung/27022
SUMMARY:Oase-Gottesdienst
PRIORITY:5
X-MICROSOFT-CDO-IMPORTANCE:1
CLASS:PUBLIC
END:VEVENT
END:VCALENDAR
