BEGIN:VCALENDAR
PRODID:-//kirchenweb.ch gmbh//veranstaltungsausgabe v2.0//DE
VERSION:2.0
METHOD:PUBLISH
BEGIN:VEVENT
DTSTART:20260116T130000Z
DTEND:20260116T150000Z
LOCATION:Pauluskirche\, Grundstrasse 18\, 4600 Olten
TRANSP:OPAQUE
SEQUENCE:0
UID:27034-veranstaltung@ref-olten.ch
DTSTAMP:20251227T124321Z
DESCRIPTION:Seniorennachmittag: Thema offen\n\nKontakt: Pfr. Uwe Kaiser\,
  062 296 22 60\n\nWeitere Infos:
  https://www.ref-olten.ch/veranstaltung/27034
SUMMARY:aktiv 66+ Seniorennachmittag
PRIORITY:5
X-MICROSOFT-CDO-IMPORTANCE:1
CLASS:PUBLIC
END:VEVENT
END:VCALENDAR
